BEGIN:VCALENDAR
VERSION:2.0
PRODID:-//wp-events-plugin.com//7.2.3.1//EN
BEGIN:VEVENT
UID:1@biblesociety-zambia.org
DTSTART:20250228T084400Z
DTEND:20250228T203000Z
DTSTAMP:20250212T090615Z
URL:https://biblesociety-zambia.org/events/bible-society-of-zambia-ambassa
 dors-training/
SUMMARY:Bible Society of Zambia Ambassadors Training
DESCRIPTION:The Bible Society of Zambia will hold its training of Ambassado
 rs on the Copperbelt Province (Chingola\, Kitwe &amp\; Ndola) starting fro
 m 21-23 June 2020.\nAll Church leaders in the area are invited to attend. 
 Please note that all participants will be required to confirm participatio
 n by 15th June 2020.\n\nFor any enquiries please contact the Administrativ
 e Secretary Ms Yutah Nchoba on\;\n\n+260 955 830601/+260 977962323
ATTACH;FMTTYPE=image/jpeg:https://biblesociety-zambia.org/wp-content/uploa
 ds/2020/04/celebrating-church-building.jpg
END:VEVENT
END:VCALENDAR